BEGIN:VCALENDAR
PRODID:-//eluceo/ical//2.0/EN
VERSION:2.0
CALSCALE:GREGORIAN
BEGIN:VEVENT
UID:bd1f5970945e82067ebe9303d7e38de0
DTSTAMP:20260426T023212Z
SUMMARY:Berufliche Integration nach oder mit einer Krebserkrankung
URL:https://tumorzentrum.insel.ch/de/aktuelles/veranstaltungen/details/deta
 il/berufliche-integration-nach-oder-mit-einer-krebserkrankung-1
DTSTART;TZID=+02:00:20260520T170000
DTEND;TZID=+02:00:20260520T180000
LOCATION:Online-Teilnahme per Webex
END:VEVENT
END:VCALENDAR
